BEGIN:VCALENDAR
VERSION:2.0
PRODID:-//Midlands Early Music Forum - ECPv6.8.3//NONSGML v1.0//EN
CALSCALE:GREGORIAN
METHOD:PUBLISH
X-ORIGINAL-URL:http://memf.org.uk
X-WR-CALDESC:Events for Midlands Early Music Forum
REFRESH-INTERVAL;VALUE=DURATION:PT1H
X-Robots-Tag:noindex
X-PUBLISHED-TTL:PT1H
BEGIN:VTIMEZONE
TZID:Europe/London
BEGIN:DAYLIGHT
TZOFFSETFROM:+0000
TZOFFSETTO:+0100
TZNAME:BST
DTSTART:20220327T010000
END:DAYLIGHT
BEGIN:STANDARD
TZOFFSETFROM:+0100
TZOFFSETTO:+0000
TZNAME:GMT
DTSTART:20221030T010000
END:STANDARD
BEGIN:DAYLIGHT
TZOFFSETFROM:+0000
TZOFFSETTO:+0100
TZNAME:BST
DTSTART:20230326T010000
END:DAYLIGHT
BEGIN:STANDARD
TZOFFSETFROM:+0100
TZOFFSETTO:+0000
TZNAME:GMT
DTSTART:20231029T010000
END:STANDARD
END:VTIMEZONE
BEGIN:VEVENT
DTSTART;TZID=Europe/London:20231202T103000
DTEND;TZID=Europe/London:20231202T170000
DTSTAMP:20260421T215859
CREATED:20230612T135759Z
LAST-MODIFIED:20231128T180022Z
UID:8272-1701513000-1701536400@memf.org.uk
SUMMARY:Angels and Shepherds: Christmas workshop with Philip Thorby on Saturday 2nd December 2023
DESCRIPTION:Angelus ad Pastores \nThis year we have invited Philip to tutor our pre-Christmas workshop. Philip has found some wonderful music on the theme of Angels and Shepherds in the Christmas story. There will be music by Christoph Buehl\, Hans Leo Hassler\, Johann Hermann Schein and Agostini Soderini. \nThe angels are generally\, well\, angelic\, but the shepherds are revealed as zither-strumming\, boisterous and (as depicted by Schein) initially very grumpy at being woken up by the heavenly host. \nThe workshop will be for voices\, violins\, viols\, cornetts\, sackbuts\, curtals\, recorders and continuo. The pitch will be A440. Tenor viol players/violas please note that most  pieces have octave-treble rather than alto clef parts. \nInstrumentalists please bring a labelled music stand. \n\n \nPhilip Thorby is one of our most popular and respected tutors. He specialises in early Italian Music. Many people will have seen his wonderful Zoom lectures during the lockdown period\, which are still available to watch on this website. \n  \n  \n  \nVenue is Solihull Methodist Church\, next to the Railway station SatNav B91 1LG. There is a large car park with the entrance in Station Approach. \nNB: If approaching from the west along Blossomfield Road\, please note that recent road layout changes mean there is no left turn into Station Approach. Either go completely around the roundabout and then turn right into Station Approach\, or take the first exit at the roundabout into Streetsbrook Road and then turn left into the opposite end of Station Approach at the traffic lights. \nBooking is now closed.
URL:http://memf.org.uk/event/christmas-workshop-for-voices-and-instruments-with-philip-thorby/
LOCATION:Solihull Methodist Church\, Bossomfield Road\,\, Solihull\, B91 1LD\, United Kingdom
CATEGORIES:A440,brass,Continuo,Loud wind,Recorders,Strings,Viols,Voices,woodwind
END:VEVENT
BEGIN:VEVENT
DTSTART;TZID=Europe/London:20230909T103000
DTEND;TZID=Europe/London:20230910T170000
DTSTAMP:20260421T215859
CREATED:20221203T202546Z
LAST-MODIFIED:20230831T163320Z
UID:7525-1694255400-1694365200@memf.org.uk
SUMMARY:William Byrd weekend- two workshops 9th & 10th September with Alison Kinder & Helen Charlston (9th only)  + AGM
DESCRIPTION:To mark the 400th anniversary of William Byrd’s death we present two individual workshops this weekend and a short concert on Saturday at 5.30 pm. \nThe MEMF  AGM will take place in the lunch break on the Sunday. \n\n\n\n\n\n\n\n\n\n\n\n\nSaturday 9th September 2023\nPsalms\, Songs and Sonnets of 1588\nwith Tutors Alison Kinder and Helen Charlston \nThis workshop is the first of MEMF’s celebratory Byrd weekend and will focus on small-scale pieces for voices and instruments. This day is for viols\, low recorders (especially basses\, great- and contra- basses) and voices\, and will focus on pieces from the ‘Psalms\, Songs and Sonnets’ of 1588. Pitch A=440 \nThe Music is likely to include Blessed Is He\, All As A Sea\, Though Amaryllis Dance\, but will be chosen to best suit the forces available once applications have closed. We will spend time all together\, but also have access to a couple of breakout rooms where instrumentalists will be able to work on a consort song with Helen singing. The day will finish with an informal mini-concert to include pieces we have worked on. \nIn addition\, you are invited to submit for performance at the mini concert a piece of Byrd (or Weelkes) prepared in advance\, for any forces (so a viol fantasy\, consort song\, madrigal…).  Please email Jill Davies (daviesmusic@btinternet.com) before 6 September if you would like to offer a piece for the concert.  Friends and relatives are welcome to attend at 5.30 pm. \nSunday 10th September 2023\nWilliam Byrd on a Grand Scale\nThe Sunday workshop is for everyone – Singers\, viols\, recorders\, brass\, double reeds\, anything at pitch A=440 – and will be Tutored by Alison Kinder. Everyone is welcome singing or playing as we celebrate this masterful composer. \nThe Music\nByrd – The Great Service (Magnificat and Nunc Dimittis)\nByrd – Domine Quis Habitabit a9\nWe thought that as Thomas Weelkes shares Byrd’s anniversary\, we ought to allow him a piece as well!  So we will include a Weelkes anthem – either ‘Hosanna to the Son of David’\, or ‘O Lord Arise’ \nMusic will be provided on the day.        Instrumentalists please bring a labelled music stand \n\n\n\n\n\n\n\nTheTutors \n \nSince winning the London Handel Singing Competition in 2018\, Helen Charlston has crafted a place for herself at the forefront of the classical music scene in the UK and abroad. A founder participant of the Rising Star of the Enlightenment programme\, she regularly works alongside the Orchestra of the Age of Enlightenment. She is a BBC New Generation Artist (2021-23) and recently won the 2023 BBC Music Magazine Vocal Awards.\nhttps://www.helencharlston.com/ \n  \n  \n\n\n\n\n\n\n\nAlison Kinder is a viol player with Chelys Consort of Viols\, who this year released a recording of consort songs and instrumental music by William Byrd with Helen singing. Alison is a regular tutor for the various early music fora and on courses including the Easter Early Music Course and NORVIS. She is also a member of the Linarol Consort\, who play on a set of viols copied from the earliest surviving viol\, made in Italy by Francesco Linarolo in about 1540. Alison has a love of working with singers\, and one of her favourite places to be is as the viol player for the female polyphonic ensemble Musica Secreta.\nhttps://www.alisonkinder.co.uk/\nhttps://linarolconsort.com/ \n\n\n\nVenue: Knowle Village Hall is 1.5 miles away from the M42 Junction 5 and approximately 3.5 miles to the east of Solihull town centre.  Nearby bus stops provide frequent transport links to Solihull Station and Dorridge Station. \n  \nBooking is now open – please scroll down\n\n\n\n\n\n\n\n\n\n\n\n\n\n\n\n\n\n\n\n\n\n\n\n 
URL:http://memf.org.uk/event/william-byrd-two-days-with-alison-kinder-9th-10th-september-20123/
LOCATION:Knowle Village Hall\, St John’s Close\, Knowle\, Solihull\, B93 0NN\, United Kingdom
CATEGORIES:A440,brass,Continuo,Loud wind,Recorders,Strings,Viols,Voices
END:VEVENT
BEGIN:VEVENT
DTSTART;TZID=Europe/London:20230603T103000
DTEND;TZID=Europe/London:20230603T170000
DTSTAMP:20260421T215859
CREATED:20221203T201818Z
LAST-MODIFIED:20230508T181043Z
UID:7523-1685788200-1685811600@memf.org.uk
SUMMARY:Sweelink and Scheidt with George Parris on 3rd June 2023
DESCRIPTION:We are delighted to welcome George Parris having had to cancel his planned workshop in the Spring. \nThis workshop  celebrates the figurehead of the Netherlands’ ‘golden age’: Jan Pieterszoon Sweelinck (1562-1621). Primarily known as the organist of the city’s Oude Kerk — where his improvisations earned him the nickname among his contemporaries as the Orpheus of Amsterdam — Sweelinck was prolific across other genres including chansons\, madrigals\, and motets. In this workshop we will combine instruments and voices to perform one of his crowning glories\, the 5-part Magnificat\, along with one of his 153 settings of the Pseaumes of the Genevan Psalter in which Sweelinck mixes grand sacred gestures with colourful madrigalian writing. \n \n  \nForemost among Sweelinck’s many pupils was Samuel Scheidt (1587-1684) from Halle\, a key figure in late-Renaissance/early-Baroque music\, who studied with Sweelinck between 1608-9. The Orpheus of Amsterdam’s influence is still prevalent in one of Scheidt’s most sublime motets for eight voices\, Christ lag in Todesbanden\, from 1620. It will be a day of glorious music and hopefully some new discoveries for everyone\, both musically and linguistically! \nThe workshop is for double SATB choir\, strings/viols\, cornetti\, sackbutts\, 2 x chamber organs and theorbo (A=440) \nGeorge Parris grew up in deepest South Warwickshire and now works as a professional singer\, the Founder and Artistic Director of The Carice Singers (named after Elgar’s daughter)\, an Associate Conductor of Ex Cathedra and one of the Co-Artistic Directors of the Aurore Renaissance Music Festival in Helsinki\, Finland. He has degrees in Music from the Universities of Cambridge and Oxford and studied Conducting at the Sibelius Academy in Helsinki between 2017-2020. As a singer he has been trained in early music and ensemble singing\, performed contemporary choral works with the Helsinki Chamber Choir and has appeared as a soloist alongside the Helsinki and Finnish Baroque Orchestras in works by Stradella\, Purcell and Gilles. \nSolihull Methodist Church is close to the centre of Solihull\, at the junction of Blossomfield Rd and Station Approach.  It is right next to Solihull Railway Station\, which is also served by buses. If coming by car\, use postcode B91 1LG for your satnav; there is plenty of parking.  The hall is a separate building to the church and is clearly signed. \nRefreshments are served from 10 am. \nBooking is now open.
URL:http://memf.org.uk/event/sweelink-and-scheidt-with-george-parris-on-3rd-june-2023/
LOCATION:Solihull Methodist Church Hall\, Blosssomfield Road\, Solihull\, B91 1LG\, United Kingdom
CATEGORIES:A440,Continuo,Loud wind,Strings,Voices,woodwind
END:VEVENT
BEGIN:VEVENT
DTSTART;TZID=Europe/London:20221217T100000
DTEND;TZID=Europe/London:20221217T170000
DTSTAMP:20260421T215859
CREATED:20220910T145220Z
LAST-MODIFIED:20221106T190707Z
UID:6917-1671271200-1671296400@memf.org.uk
SUMMARY:Benevoli Mass for four choirs c 1650 with Robert Hollingworth
DESCRIPTION:Expect a wonderful day with one of our favourite Tutors to get you in the spirit of Christmas! Robert has not told us which of Benevoli’s four masses we will be singing – he is still editing them! This is an opportunity to discover a really important figure – a lost link if you like – in the world of multi-choir music in the mid-seventeenth century: ORAZIO BENEVOLI.  We will get to know a newly edited mass for four choirs and this time (unlike so much Venetian music) the choirs are manageable by all voices so plenty of male voices please \nWe will also be singing Sweelinck’s Hodie Christus Natus Est to get us in the Christmas spirit and there will be mince pies! \nPitch =A440 suitable for strings\, recorders\, cornetts\,  sackbuts and dulcians doubling the choral parts\, and continuo including theorbo and bass instruments. \nRobert founded I Fagiolini in 1986 and has spent much of his life thinking around how to present music of a different time and context to contemporary audiences.  He has presented all the group’s signature projects but also directed the English Concert\, Academy of Ancient Music\, BBC Concert Orchestra and some of the world’s finest chamber choirs including Accentus\, NDR Chor\, BBC Singers\, RIAS Kammerchor\, Capella Cracoviensis\, VOCES8 and the Danish National Vocal Ensemble. He succeeds Mark Deller as Artistic Director for the Stour Music festival from 2020\, and is Reader in Music at the University of York where he directs ‘The 24’ and runs an MA in Solo-Voice Ensemble Singing.  During lockdown he created and presented ‘Sing The Score’ on Youtube and the podcast ‘Choral Chihuahua’ with Eamonn Dougan and Harry Christophers.  He likes Monteverdi and Monty Python.   \nBooking is now open..
URL:http://memf.org.uk/event/benevoli-mass-for-four-choirs-c-1650-with-robert-hollingworth/
LOCATION:St Philip’s Church Centre\, Dorridge\, B93 8DX
CATEGORIES:A440,brass,Continuo,Recorders,Strings,Voices
END:VEVENT
BEGIN:VEVENT
DTSTART;TZID=Europe/London:20221022T100000
DTEND;TZID=Europe/London:20221022T170000
DTSTAMP:20260421T215859
CREATED:20220815T193121Z
LAST-MODIFIED:20220913T202255Z
UID:6613-1666432800-1666458000@memf.org.uk
SUMMARY:Songs of Love and Death - the music of Leonhard Lechner Athesinus with Philip Thorby
DESCRIPTION:Philip Thorby is one of our most popular tutors and has again found some wonderful music by a composer most of us will have never heard of. This year it is a one day workshop so that members who could previously never commit to a whole weekend can take part. \nAll singers and the following instruments are welcome – recorders\, cornetts\, sackbuts\, curtals\, viols\, violins and continuo (with figured bass). Pitch will be A=440. \nThe fees are £20 for MEMF and other EMF members\, £25 for others. \nMusic will be provided on the day. Instrumentalists please bring a labelled music stand. \nThe Music \nThe German composer Leonhard Lechner Athesinus was born in the Italian Tyrol and was a gifted boy soprano who went on to sing tenor and study composition with Orlando di Lasso. The influence of the master is evident in the pupil\, but Lechner is very much his own man\, as demonstrated in the wonderful pieces Philip has chosen for our workshop. These include a six-part setting of a section of the funeral sentences\, a fifteen-part three-choir setting of Laudate Dominum\, and the masterly and splendid 24-part setting of a Latin verse commissioned for a wedding. In keeping with the German practice of the time the singers will be supported by many varied instrumental sounds. \nDirections to Solihull School \nBy road – leave the M42 at junction 5 and onto the A41 towards Solihull. Take the first left turning towards Solihull town centre. \nTurn right at the roundabout and continue towards Solihull town centre along the Warwick Road B 4025.The school entrance is on the right at the second set of traffic lights. There is plenty of parking in front of the chapel. The David Turnbull Music Centre is a short walk beyond the car park. The barrier will be unlocked so that instrumentalists can drive to the centre to drop off instruments. \nSolihull railway centre is approximately a 1km walk through the town. \nBooking is now open.
URL:http://memf.org.uk/event/workshop-for-voices-and-instruments-with-philip-thorby/
LOCATION:Solihull School
CATEGORIES:Continuo,Loud wind,Recorders,Strings,Viols,Voices
END:VEVENT
BEGIN:VEVENT
DTSTART;TZID=Europe/London:20220716T100000
DTEND;TZID=Europe/London:20220716T170000
DTSTAMP:20260421T215859
CREATED:20220301T125412Z
LAST-MODIFIED:20220614T142739Z
UID:4573-1657965600-1657990800@memf.org.uk
SUMMARY:Not Mortals but Angels - Convent polyphony from the 13th-16th centuries - with Tutor Prof Laurie Stras
DESCRIPTION:MUSIC \nThis one-day workshop will look at music from the convents of Europe\, drawn from medieval and renaissance manuscripts and prints. We will cover a range of styles and practices\, from simple harmonisations to complex imitative polyphony\, in songs\, antiphons\, mass movements\, and motets. Depending on voices available\, sources will include manuscripts from the Bologna library\, the Brenzoni-Maffei manuscript from Verona\, the Biffoli-Sostegni manuscript from San Matteo in Arcetri (convent home of Galileo’s daughter)\, and motets attributed to Suor Leonora d’Este – including repertoire that has fed into Musica Secreta’s newest project\, Mother Sister Daughter.  All female voices\, from high soprano to low tenor\, are very welcome\, along with soft instruments  (including viol\, theorbo and recorder players of any gender). A keyboard player would be a welcome addition\, too! \n \nTUTOR \nLaurie Stras is Emeritus Professor of Music at the University of Southampton and the director of Musica Secreta (co-directed with Deborah Roberts from 2002-2021). Stras and Musica Secreta have been at the forefront of research and performance of music written for and by women in the Renaissance. They have made numerous acclaimed recordings\, the latest of which\, Mother\, Sister\, Daughter\, is released in June 2022. Her book\, Women and Music in Sixteenth-Century Ferrara (CUP\, 2018)\, won the prestigious Otto Kinkeldey Award from the American Musicological Society in 2019. \nBooking will open in a few days.
URL:http://memf.org.uk/event/nuns-with-tutor-prof-laurie-stras/
LOCATION:St.Faith & St.Laurence Church Hall\, Balden Road\, Harborne\, Birmingham\, B32 2EL\, United Kingdom
CATEGORIES:Continuo,Recorders,Viols,Voices
END:VEVENT
BEGIN:VEVENT
DTSTART;TZID=Europe/London:20220521T100000
DTEND;TZID=Europe/London:20220521T170000
DTSTAMP:20260421T215859
CREATED:20220212T193746Z
LAST-MODIFIED:20220414T202311Z
UID:4530-1653127200-1653152400@memf.org.uk
SUMMARY:Music by Rosenmüller with Tutor William Carslake
DESCRIPTION:Johann Christian Rosenmüller\n \nFollowing his early career in Leipzig\, Rosenmüller spent over twenty years in Venice where he was Maestro di Coro at the Ospedale della Pieta (like Vivaldi after him).  At the end of his career he returned to Germany and settled in Wolfenbuttel.  There is a fine blend of Italian and German styles in these appealing and approachable pieces of sacred music which  show the influence of both Corelli and Schütz.  Before emigrating to Italy in the late 1650’s Rosenmüller had already been there briefly in 1645/46 and the trip had a decisive influence on his style.  This can be heard in his two famous collections of 1648 and 1652/3\, the Kern Spruchen (Core Sayings) and Andere Kern Spruchen (other Core Sayings).  The word painting is evocative and the  sudden turns of harmony can take you by surprise!  If you don’t yet know him you’re in for a treat. \nWe will be studying   “Siehe an die Werke Gottes”\, “Lauda Jerusalem”\, “Also hat Gott” and a Magnificat \nThis is a workshop for Voices and the following Instruments: \nOne harpsichord and one chamber organ (or electronic organ) at A415  or two harpsichords at A415 and one or two theorbos.  All keyboard and theorbo players need to be comfortable reading figured bass. \nStrings with baroque set ups\, or modern instruments with gut strings and baroque bows: violins\, violas or tenor/bass viols\, baroque cellos. \nSackbuts\, cornets\, curtals and recorders are welcome. \nBill Carslake \n \nBill studied singing with David Lowe at Cambridge and Peter Alexander Wilson at Royal Scottish Academy of Music\, and orchestral conducting with Martyn Brabbins\, Jorma Panula and Ilya Musin. He was a busy bass-baritone before he decided to focus exclusively on conducting and composing. He composes music inspired by outdoor places such as Greenland and is a 2018/19 Finzi Scholar for his current composition project about Mountain Hares. He is Artistic Director of Farnborough Symphony Orchestra and Imperial College Sinfonietta and was Music Director for the Royal Ballet’s Elizabeth in 2018 and 2016. He is passionate about Renaissance and Baroque music and directs programmes for EMF forums\, Lacock Choral Courses and Benslow Music.  He is a Trustee of the Elgar Foundation. \nMusic will be provided on the day. \nInstrumentalists please bring a labelled music stand. \nPlease book below and then scroll down to make sure you have succeeded.
URL:http://memf.org.uk/event/rosenmuller-with-tutor-will-carslake/
LOCATION:St Philip’s Church Centre\, Dorridge\, B93 8DX
CATEGORIES:A415,brass,Continuo,Loud wind,Recorders,Strings,Voices
END:VEVENT
BEGIN:VEVENT
DTSTART;TZID=Europe/London:20220402T100000
DTEND;TZID=Europe/London:20220402T170000
DTSTAMP:20260421T215859
CREATED:20220224T154510Z
LAST-MODIFIED:20220323T172020Z
UID:4559-1648893600-1648918800@memf.org.uk
SUMMARY:Purcell: Choruses from Dido and Aeneas with Tutor George Parris - CANCELLED
DESCRIPTION:Sadly we have had to cancel this workshop – the small number of people who had booked were not suficient for the workshop to be practical. \nWe are sorry for this\, and hope to book George Parris for another workshop in the future. \n 
URL:http://memf.org.uk/event/purcell-choruses-from-dido-and-aeneas-with-tutor-george-parris/
CATEGORIES:Continuo,Strings,Voices
END:VEVENT
END:VCALENDAR